BEGIN:VCALENDAR
VERSION:2.0
PRODID:-//23ROBADORS - ECPv6.15.17//NONSGML v1.0//EN
CALSCALE:GREGORIAN
METHOD:PUBLISH
X-WR-CALNAME:23ROBADORS
X-ORIGINAL-URL:https://23robadors.com
X-WR-CALDESC:Esdeveniments per 23ROBADORS
REFRESH-INTERVAL;VALUE=DURATION:PT1H
X-Robots-Tag:noindex
X-PUBLISHED-TTL:PT1H
BEGIN:VTIMEZONE
TZID:Europe/Madrid
BEGIN:DAYLIGHT
TZOFFSETFROM:+0100
TZOFFSETTO:+0200
TZNAME:CEST
DTSTART:20250330T010000
END:DAYLIGHT
BEGIN:STANDARD
TZOFFSETFROM:+0200
TZOFFSETTO:+0100
TZNAME:CET
DTSTART:20251026T010000
END:STANDARD
BEGIN:DAYLIGHT
TZOFFSETFROM:+0100
TZOFFSETTO:+0200
TZNAME:CEST
DTSTART:20260329T010000
END:DAYLIGHT
BEGIN:STANDARD
TZOFFSETFROM:+0200
TZOFFSETTO:+0100
TZNAME:CET
DTSTART:20261025T010000
END:STANDARD
BEGIN:DAYLIGHT
TZOFFSETFROM:+0100
TZOFFSETTO:+0200
TZNAME:CEST
DTSTART:20270328T010000
END:DAYLIGHT
BEGIN:STANDARD
TZOFFSETFROM:+0200
TZOFFSETTO:+0100
TZNAME:CET
DTSTART:20271031T010000
END:STANDARD
END:VTIMEZONE
BEGIN:VEVENT
DTSTART;TZID=Europe/Madrid:20260305T200000
DTEND;TZID=Europe/Madrid:20260305T200000
DTSTAMP:20260305T013956
CREATED:20260221T103815Z
LAST-MODIFIED:20260221T103815Z
UID:23833-1772740800-1772740800@23robadors.com
SUMMARY:EL MORE . DIVINA CORTES . JAVIER DE LA ROSA . JOSE MOSKITO
DESCRIPTION:Comparteix això:\n				Share on X (S'obre en una nova finestra)\n				X\n			\n				Share on Facebook (S'obre en una nova finestra)\n				Facebook\n			Us agrada:M'agrada S'està carregant...
URL:https://23robadors.com/calendari/el-more-divina-cortes-javier-de-la-rosa-jose-moskito/
CATEGORIES:FLAMENCO
ATTACH;FMTTYPE=image/jpeg:https://23robadors.com/wp-content/uploads/2026/02/5-FLAM.jpg
END:VEVENT
BEGIN:VEVENT
DTSTART;TZID=Europe/Madrid:20260305T220000
DTEND;TZID=Europe/Madrid:20260305T220000
DTSTAMP:20260305T013956
CREATED:20260221T104017Z
LAST-MODIFIED:20260221T104017Z
UID:23836-1772748000-1772748000@23robadors.com
SUMMARY:"ROAD SONGS" w/ SARA LILU . MIGUEL VILLAR . DANI PÉREZ
DESCRIPTION:Comparteix això:\n				Share on X (S'obre en una nova finestra)\n				X\n			\n				Share on Facebook (S'obre en una nova finestra)\n				Facebook\n			Us agrada:M'agrada S'està carregant...
URL:https://23robadors.com/calendari/road-songs-w-sara-lilu-miguel-villar-dani-perez/
CATEGORIES:JAZZSESSION
ATTACH;FMTTYPE=image/jpeg:https://23robadors.com/wp-content/uploads/2026/02/5-JAZZ.jpg
END:VEVENT
BEGIN:VEVENT
DTSTART;TZID=Europe/Madrid:20260306T200000
DTEND;TZID=Europe/Madrid:20260306T200000
DTSTAMP:20260305T013956
CREATED:20260221T104534Z
LAST-MODIFIED:20260221T104534Z
UID:23839-1772827200-1772827200@23robadors.com
SUMMARY:DAVID SANCHEZ . VIOLETA BARRIO . ALBERT PONS . RAMÓN OLIVARES
DESCRIPTION:Comparteix això:\n				Share on X (S'obre en una nova finestra)\n				X\n			\n				Share on Facebook (S'obre en una nova finestra)\n				Facebook\n			Us agrada:M'agrada S'està carregant...
URL:https://23robadors.com/calendari/david-sanchez-violeta-barrio-albert-pons-ramon-olivares/
CATEGORIES:FLAMENCO
ATTACH;FMTTYPE=image/jpeg:https://23robadors.com/wp-content/uploads/2026/02/6-FLAM.jpg
END:VEVENT
BEGIN:VEVENT
DTSTART;TZID=Europe/Madrid:20260306T220000
DTEND;TZID=Europe/Madrid:20260306T220000
DTSTAMP:20260305T013956
CREATED:20260221T104647Z
LAST-MODIFIED:20260221T104647Z
UID:23842-1772834400-1772834400@23robadors.com
SUMMARY:LUSIMI SEGURADO TRIO w/ MASA KAMAGUCHI . SANTI COLOMER
DESCRIPTION:Comparteix això:\n				Share on X (S'obre en una nova finestra)\n				X\n			\n				Share on Facebook (S'obre en una nova finestra)\n				Facebook\n			Us agrada:M'agrada S'està carregant...
URL:https://23robadors.com/calendari/lusimi-segurado-trio-w-masa-kamaguchi-santi-colomer/
CATEGORIES:JAZZSESSION
ATTACH;FMTTYPE=image/jpeg:https://23robadors.com/wp-content/uploads/2026/02/6-JAZZ.jpg
END:VEVENT
BEGIN:VEVENT
DTSTART;TZID=Europe/Madrid:20260307T200000
DTEND;TZID=Europe/Madrid:20260307T200000
DTSTAMP:20260305T013956
CREATED:20260221T104832Z
LAST-MODIFIED:20260221T104832Z
UID:23845-1772913600-1772913600@23robadors.com
SUMMARY:"RAVAL DE LA FRONTERA" MAGDA MAÑE . NITO . ALBERT PONS . SERGIO DIFINIZIO . CHUS TOBALO
DESCRIPTION:Comparteix això:\n				Share on X (S'obre en una nova finestra)\n				X\n			\n				Share on Facebook (S'obre en una nova finestra)\n				Facebook\n			Us agrada:M'agrada S'està carregant...
URL:https://23robadors.com/calendari/raval-de-la-frontera-magda-mane-nito-albert-pons-sergio-difinizio-chus-tobalo-12/
CATEGORIES:FLAMENCO
ATTACH;FMTTYPE=image/jpeg:https://23robadors.com/wp-content/uploads/2026/02/7-FLAM.jpg
END:VEVENT
BEGIN:VEVENT
DTSTART;TZID=Europe/Madrid:20260307T220000
DTEND;TZID=Europe/Madrid:20260307T220000
DTSTAMP:20260305T013956
CREATED:20260221T104924Z
LAST-MODIFIED:20260221T104924Z
UID:23848-1772920800-1772920800@23robadors.com
SUMMARY:"RAVAL DE LA FRONTERA" MAGDA MAÑE . NITO . ALBERT PONS . SERGIO DIFINIZIO . CHUS TOBALO
DESCRIPTION:Comparteix això:\n				Share on X (S'obre en una nova finestra)\n				X\n			\n				Share on Facebook (S'obre en una nova finestra)\n				Facebook\n			Us agrada:M'agrada S'està carregant...
URL:https://23robadors.com/calendari/raval-de-la-frontera-magda-mane-nito-albert-pons-sergio-difinizio-chus-tobalo-13/
CATEGORIES:FLAMENCO
ATTACH;FMTTYPE=image/jpeg:https://23robadors.com/wp-content/uploads/2026/02/7-FLAM.jpg
END:VEVENT
BEGIN:VEVENT
DTSTART;TZID=Europe/Madrid:20260308T200000
DTEND;TZID=Europe/Madrid:20260308T200000
DTSTAMP:20260305T013956
CREATED:20260221T105048Z
LAST-MODIFIED:20260221T105048Z
UID:23850-1773000000-1773000000@23robadors.com
SUMMARY:MONICA DE LA CHICUELA . PILI RODRIGUEZ .  RAQUEL ALEGRÍA . ADAN PEREZ
DESCRIPTION:Comparteix això:\n				Share on X (S'obre en una nova finestra)\n				X\n			\n				Share on Facebook (S'obre en una nova finestra)\n				Facebook\n			Us agrada:M'agrada S'està carregant...
URL:https://23robadors.com/calendari/monica-de-la-chicuela-pili-rodriguez-raquel-alegria-adan-perez/
CATEGORIES:FLAMENCO
ATTACH;FMTTYPE=image/jpeg:https://23robadors.com/wp-content/uploads/2026/02/8-FLAM.jpg
END:VEVENT
BEGIN:VEVENT
DTSTART;TZID=Europe/Madrid:20260308T220000
DTEND;TZID=Europe/Madrid:20260308T220000
DTSTAMP:20260305T013956
CREATED:20260221T105148Z
LAST-MODIFIED:20260221T105148Z
UID:23853-1773007200-1773007200@23robadors.com
SUMMARY:MONICA DE LA CHICUELA . PILI RODRIGUEZ .  RAQUEL ALEGRÍA . ADAN PEREZ
DESCRIPTION:Comparteix això:\n				Share on X (S'obre en una nova finestra)\n				X\n			\n				Share on Facebook (S'obre en una nova finestra)\n				Facebook\n			Us agrada:M'agrada S'està carregant...
URL:https://23robadors.com/calendari/monica-de-la-chicuela-pili-rodriguez-raquel-alegria-adan-perez-2/
CATEGORIES:FLAMENCO
ATTACH;FMTTYPE=image/jpeg:https://23robadors.com/wp-content/uploads/2026/02/8-FLAM.jpg
END:VEVENT
BEGIN:VEVENT
DTSTART;TZID=Europe/Madrid:20260309T200000
DTEND;TZID=Europe/Madrid:20260309T200000
DTSTAMP:20260305T013956
CREATED:20260302T132103Z
LAST-MODIFIED:20260302T132103Z
UID:23873-1773086400-1773086400@23robadors.com
SUMMARY:PERE MARTINEZ . MONTSERRAT MARTINEZ . RUBEN HERAS . MARC LOPEZ
DESCRIPTION:Comparteix això:\n				Share on X (S'obre en una nova finestra)\n				X\n			\n				Share on Facebook (S'obre en una nova finestra)\n				Facebook\n			Us agrada:M'agrada S'està carregant...
URL:https://23robadors.com/calendari/pere-martinez-montserrat-martinez-ruben-heras-marc-lopez-3/
CATEGORIES:FLAMENCO
ATTACH;FMTTYPE=image/jpeg:https://23robadors.com/wp-content/uploads/2026/03/9-FLAM.jpg
END:VEVENT
BEGIN:VEVENT
DTSTART;TZID=Europe/Madrid:20260309T220000
DTEND;TZID=Europe/Madrid:20260309T220000
DTSTAMP:20260305T013956
CREATED:20260302T132315Z
LAST-MODIFIED:20260302T132315Z
UID:23877-1773093600-1773093600@23robadors.com
SUMMARY:GIACOMO GANZERLI TRIO AMB LA PARTICIPACIÓ ESPECIAL DE DIEGO HERVALEJO w/ MICHELE BONIFATI . DANIELE NASI
DESCRIPTION:Comparteix això:\n				Share on X (S'obre en una nova finestra)\n				X\n			\n				Share on Facebook (S'obre en una nova finestra)\n				Facebook\n			Us agrada:M'agrada S'està carregant...
URL:https://23robadors.com/calendari/giacomo-ganzerli-trio-amb-la-participacio-especial-de-diego-hervalejo-w-michele-bonifati-daniele-nasi/
CATEGORIES:JAZZSESSION
ATTACH;FMTTYPE=image/jpeg:https://23robadors.com/wp-content/uploads/2026/03/9-JAZZ.jpg
END:VEVENT
BEGIN:VEVENT
DTSTART;TZID=Europe/Madrid:20260310T200000
DTEND;TZID=Europe/Madrid:20260310T200000
DTSTAMP:20260305T013956
CREATED:20260302T132442Z
LAST-MODIFIED:20260302T132442Z
UID:23880-1773172800-1773172800@23robadors.com
SUMMARY:"IRIS FLAMENCAS"  IRENE ZUGAZA . ISABEL RIVERA . ANGELA ZARZUELA
DESCRIPTION:Comparteix això:\n				Share on X (S'obre en una nova finestra)\n				X\n			\n				Share on Facebook (S'obre en una nova finestra)\n				Facebook\n			Us agrada:M'agrada S'està carregant...
URL:https://23robadors.com/calendari/iris-flamencas-irene-zugaza-isabel-rivera-angela-zarzuela/
CATEGORIES:FLAMENCO
ATTACH;FMTTYPE=image/jpeg:https://23robadors.com/wp-content/uploads/2026/03/10-FLAM.jpg
END:VEVENT
BEGIN:VEVENT
DTSTART;TZID=Europe/Madrid:20260310T220000
DTEND;TZID=Europe/Madrid:20260310T220000
DTSTAMP:20260305T013956
CREATED:20260302T132633Z
LAST-MODIFIED:20260302T132633Z
UID:23884-1773180000-1773180000@23robadors.com
SUMMARY:MANDAÇAIA w/ LETÍCIA SALES . CECILIA COLLAÇO . RICARDO URQUIZA . MARTA ALBIOL . ARTUR CANADELL
DESCRIPTION:Comparteix això:\n				Share on X (S'obre en una nova finestra)\n				X\n			\n				Share on Facebook (S'obre en una nova finestra)\n				Facebook\n			Us agrada:M'agrada S'està carregant...
URL:https://23robadors.com/calendari/mandacaia-w-leticia-sales-cecilia-collaco-ricardo-urquiza-marta-albiol-artur-canadell/
CATEGORIES:JAZZSESSION
ATTACH;FMTTYPE=image/jpeg:https://23robadors.com/wp-content/uploads/2026/03/10-JAZZ.jpg
END:VEVENT
BEGIN:VEVENT
DTSTART;TZID=Europe/Madrid:20260311T203000
DTEND;TZID=Europe/Madrid:20260311T203000
DTSTAMP:20260305T013956
CREATED:20260302T132739Z
LAST-MODIFIED:20260302T132739Z
UID:23887-1773261000-1773261000@23robadors.com
SUMMARY:AROUND THE SPACE BAND w/ MIGUEL VILLAR . JUAN PABLO BALCAZAR . CARLOS FALANGA
DESCRIPTION:Comparteix això:\n				Share on X (S'obre en una nova finestra)\n				X\n			\n				Share on Facebook (S'obre en una nova finestra)\n				Facebook\n			Us agrada:M'agrada S'està carregant...
URL:https://23robadors.com/calendari/around-the-space-band-w-miguel-villar-juan-pablo-balcazar-carlos-falanga-12/
CATEGORIES:LA JAM DE JAZZ
ATTACH;FMTTYPE=image/jpeg:https://23robadors.com/wp-content/uploads/2026/02/LA-JAM.jpg
END:VEVENT
BEGIN:VEVENT
DTSTART;TZID=Europe/Madrid:20260312T200000
DTEND;TZID=Europe/Madrid:20260312T200000
DTSTAMP:20260305T013956
CREATED:20260302T132902Z
LAST-MODIFIED:20260302T132902Z
UID:23889-1773345600-1773345600@23robadors.com
SUMMARY:MANUEL DE LA MIGUELA . DIVINA CORTES . NITO . PACO HEREDIA
DESCRIPTION:Comparteix això:\n				Share on X (S'obre en una nova finestra)\n				X\n			\n				Share on Facebook (S'obre en una nova finestra)\n				Facebook\n			Us agrada:M'agrada S'està carregant...
URL:https://23robadors.com/calendari/manuel-de-la-miguela-divina-cortes-nito-paco-heredia/
CATEGORIES:FLAMENCO
ATTACH;FMTTYPE=image/jpeg:https://23robadors.com/wp-content/uploads/2026/03/12-FLAM.jpg
END:VEVENT
BEGIN:VEVENT
DTSTART;TZID=Europe/Madrid:20260312T220000
DTEND;TZID=Europe/Madrid:20260312T220000
DTSTAMP:20260305T013956
CREATED:20260302T133022Z
LAST-MODIFIED:20260302T133022Z
UID:23892-1773352800-1773352800@23robadors.com
SUMMARY:GUSTAV LUNDGREN TRÍO w/ ANTON JARL . JUAN PABLO BALCAZAR
DESCRIPTION:Comparteix això:\n				Share on X (S'obre en una nova finestra)\n				X\n			\n				Share on Facebook (S'obre en una nova finestra)\n				Facebook\n			Us agrada:M'agrada S'està carregant...
URL:https://23robadors.com/calendari/gustav-lundgren-trio-w-anton-jarl-juan-pablo-balcazar/
CATEGORIES:JAZZSESSION
ATTACH;FMTTYPE=image/jpeg:https://23robadors.com/wp-content/uploads/2026/03/12-JAZZ.jpg
END:VEVENT
BEGIN:VEVENT
DTSTART;TZID=Europe/Madrid:20260313T200000
DTEND;TZID=Europe/Madrid:20260313T200000
DTSTAMP:20260305T013956
CREATED:20260302T133133Z
LAST-MODIFIED:20260302T133133Z
UID:23895-1773432000-1773432000@23robadors.com
SUMMARY:MAGDA MAÑE . MAR COBO . ALBERT PONS . ANTONIO VILLAVERDE
DESCRIPTION:Comparteix això:\n				Share on X (S'obre en una nova finestra)\n				X\n			\n				Share on Facebook (S'obre en una nova finestra)\n				Facebook\n			Us agrada:M'agrada S'està carregant...
URL:https://23robadors.com/calendari/magda-mane-mar-cobo-albert-pons-antonio-villaverde/
CATEGORIES:FLAMENCO
ATTACH;FMTTYPE=image/jpeg:https://23robadors.com/wp-content/uploads/2026/03/13-FLAM.jpg
END:VEVENT
BEGIN:VEVENT
DTSTART;TZID=Europe/Madrid:20260313T220000
DTEND;TZID=Europe/Madrid:20260313T220000
DTSTAMP:20260305T013956
CREATED:20260302T133311Z
LAST-MODIFIED:20260302T133311Z
UID:23898-1773439200-1773439200@23robadors.com
SUMMARY:TONI SAIGI . JOSE LÓPEZ . GUILLEM ARNEDO TRIO
DESCRIPTION:Comparteix això:\n				Share on X (S'obre en una nova finestra)\n				X\n			\n				Share on Facebook (S'obre en una nova finestra)\n				Facebook\n			Us agrada:M'agrada S'està carregant...
URL:https://23robadors.com/calendari/toni-saigi-jose-lopez-guillem-arnedo-trio/
CATEGORIES:JAZZSESSION
ATTACH;FMTTYPE=image/jpeg:https://23robadors.com/wp-content/uploads/2026/03/13-JAZZ.jpg
END:VEVENT
BEGIN:VEVENT
DTSTART;TZID=Europe/Madrid:20260314T200000
DTEND;TZID=Europe/Madrid:20260314T200000
DTSTAMP:20260305T013956
CREATED:20260302T133458Z
LAST-MODIFIED:20260302T133458Z
UID:23901-1773518400-1773518400@23robadors.com
SUMMARY:"SARSALE" RAMON TATO . VIOLETA BARRIO . ALBERT PONS . OSCAR PUIG
DESCRIPTION:Comparteix això:\n				Share on X (S'obre en una nova finestra)\n				X\n			\n				Share on Facebook (S'obre en una nova finestra)\n				Facebook\n			Us agrada:M'agrada S'està carregant...
URL:https://23robadors.com/calendari/sarsale-ramon-tato-violeta-barrio-albert-pons-oscar-puig-16/
CATEGORIES:FLAMENCO
ATTACH;FMTTYPE=image/jpeg:https://23robadors.com/wp-content/uploads/2026/03/14-FLAM.jpg
END:VEVENT
BEGIN:VEVENT
DTSTART;TZID=Europe/Madrid:20260314T220000
DTEND;TZID=Europe/Madrid:20260314T220000
DTSTAMP:20260305T013956
CREATED:20260302T133625Z
LAST-MODIFIED:20260302T133625Z
UID:23906-1773525600-1773525600@23robadors.com
SUMMARY:"SARSALE" RAMON TATO . VIOLETA BARRIO . ALBERT PONS . OSCAR PUIG
DESCRIPTION:Comparteix això:\n				Share on X (S'obre en una nova finestra)\n				X\n			\n				Share on Facebook (S'obre en una nova finestra)\n				Facebook\n			Us agrada:M'agrada S'està carregant...
URL:https://23robadors.com/calendari/sarsale-ramon-tato-violeta-barrio-albert-pons-oscar-puig-17/
CATEGORIES:FLAMENCO
ATTACH;FMTTYPE=image/jpeg:https://23robadors.com/wp-content/uploads/2026/03/14-FLAM.jpg
END:VEVENT
BEGIN:VEVENT
DTSTART;TZID=Europe/Madrid:20260315T200000
DTEND;TZID=Europe/Madrid:20260315T200000
DTSTAMP:20260305T013956
CREATED:20260302T133759Z
LAST-MODIFIED:20260302T133759Z
UID:23908-1773604800-1773604800@23robadors.com
SUMMARY:IRENE RIBAS . NARANJITA DE TRIANA . JUAN MATEOS . OSCAR SORIANO
DESCRIPTION:Comparteix això:\n				Share on X (S'obre en una nova finestra)\n				X\n			\n				Share on Facebook (S'obre en una nova finestra)\n				Facebook\n			Us agrada:M'agrada S'està carregant...
URL:https://23robadors.com/calendari/irene-ribas-naranjita-de-triana-juan-mateos-oscar-soriano/
CATEGORIES:FLAMENCO
ATTACH;FMTTYPE=image/jpeg:https://23robadors.com/wp-content/uploads/2026/03/15-FLAM.jpg
END:VEVENT
BEGIN:VEVENT
DTSTART;TZID=Europe/Madrid:20260315T220000
DTEND;TZID=Europe/Madrid:20260315T220000
DTSTAMP:20260305T013956
CREATED:20260302T133851Z
LAST-MODIFIED:20260302T133851Z
UID:23911-1773612000-1773612000@23robadors.com
SUMMARY:IRENE RIBAS . NARANJITA DE TRIANA . JUAN MATEOS . OSCAR SORIANO
DESCRIPTION:Comparteix això:\n				Share on X (S'obre en una nova finestra)\n				X\n			\n				Share on Facebook (S'obre en una nova finestra)\n				Facebook\n			Us agrada:M'agrada S'està carregant...
URL:https://23robadors.com/calendari/irene-ribas-naranjita-de-triana-juan-mateos-oscar-soriano-2/
CATEGORIES:FLAMENCO
ATTACH;FMTTYPE=image/jpeg:https://23robadors.com/wp-content/uploads/2026/03/15-FLAM.jpg
END:VEVENT
BEGIN:VEVENT
DTSTART;TZID=Europe/Madrid:20260316T200000
DTEND;TZID=Europe/Madrid:20260316T200000
DTSTAMP:20260305T013956
CREATED:20260302T134019Z
LAST-MODIFIED:20260302T134019Z
UID:23913-1773691200-1773691200@23robadors.com
SUMMARY:VICTOR TOSTAO . AZAHARA CANTERO . RUTH QUESADA . EDGAR PLATON
DESCRIPTION:Comparteix això:\n				Share on X (S'obre en una nova finestra)\n				X\n			\n				Share on Facebook (S'obre en una nova finestra)\n				Facebook\n			Us agrada:M'agrada S'està carregant...
URL:https://23robadors.com/calendari/victor-tostao-azahara-cantero-ruth-quesada-edgar-platon/
CATEGORIES:FLAMENCO
ATTACH;FMTTYPE=image/jpeg:https://23robadors.com/wp-content/uploads/2026/03/16-FLAM.jpg
END:VEVENT
BEGIN:VEVENT
DTSTART;TZID=Europe/Madrid:20260316T220000
DTEND;TZID=Europe/Madrid:20260316T220000
DTSTAMP:20260305T013956
CREATED:20260302T134146Z
LAST-MODIFIED:20260302T134146Z
UID:23916-1773698400-1773698400@23robadors.com
SUMMARY:GUIDO DI BLASI PROJECT w/ LUCAS MARTÍNEZ . MAURO BATTISTI . JOSEP CORDOBÉS
DESCRIPTION:Comparteix això:\n				Share on X (S'obre en una nova finestra)\n				X\n			\n				Share on Facebook (S'obre en una nova finestra)\n				Facebook\n			Us agrada:M'agrada S'està carregant...
URL:https://23robadors.com/calendari/guido-di-blasi-project-w-lucas-martinez-mauro-battisti-josep-cordobes/
CATEGORIES:JAZZSESSION
ATTACH;FMTTYPE=image/jpeg:https://23robadors.com/wp-content/uploads/2026/03/16-JAZZ.jpg
END:VEVENT
BEGIN:VEVENT
DTSTART;TZID=Europe/Madrid:20260317T200000
DTEND;TZID=Europe/Madrid:20260317T200000
DTSTAMP:20260305T013956
CREATED:20260302T134347Z
LAST-MODIFIED:20260302T134347Z
UID:23921-1773777600-1773777600@23robadors.com
SUMMARY:LAURA MATEO . MAR COBO . EDGAR LOPEZ PLATON . ALVARO LOPEZ
DESCRIPTION:Comparteix això:\n				Share on X (S'obre en una nova finestra)\n				X\n			\n				Share on Facebook (S'obre en una nova finestra)\n				Facebook\n			Us agrada:M'agrada S'està carregant...
URL:https://23robadors.com/calendari/laura-mateo-mar-cobo-edgar-lopez-platon-alvaro-lopez/
CATEGORIES:FLAMENCO
ATTACH;FMTTYPE=image/jpeg:https://23robadors.com/wp-content/uploads/2026/03/17-FLAM.jpg
END:VEVENT
BEGIN:VEVENT
DTSTART;TZID=Europe/Madrid:20260317T220000
DTEND;TZID=Europe/Madrid:20260317T220000
DTSTAMP:20260305T013956
CREATED:20260302T134233Z
LAST-MODIFIED:20260302T134233Z
UID:23919-1773784800-1773784800@23robadors.com
SUMMARY:GUIDO DI BLASI PROJECT w/ LUCAS MARTÍNEZ . MAURO BATTISTI . JOSEP CORDOBÉS
DESCRIPTION:Comparteix això:\n				Share on X (S'obre en una nova finestra)\n				X\n			\n				Share on Facebook (S'obre en una nova finestra)\n				Facebook\n			Us agrada:M'agrada S'està carregant...
URL:https://23robadors.com/calendari/guido-di-blasi-project-w-lucas-martinez-mauro-battisti-josep-cordobes-2/
CATEGORIES:FLAMENCO
ATTACH;FMTTYPE=image/jpeg:https://23robadors.com/wp-content/uploads/2026/03/16-JAZZ.jpg
END:VEVENT
BEGIN:VEVENT
DTSTART;TZID=Europe/Madrid:20260318T203000
DTEND;TZID=Europe/Madrid:20260318T203000
DTSTAMP:20260305T013956
CREATED:20260302T134442Z
LAST-MODIFIED:20260302T134442Z
UID:23924-1773865800-1773865800@23robadors.com
SUMMARY:AROUND THE SPACE BAND w/ MIGUEL VILLAR . JUAN PABLO BALCAZAR . CARLOS FALANGA
DESCRIPTION:Comparteix això:\n				Share on X (S'obre en una nova finestra)\n				X\n			\n				Share on Facebook (S'obre en una nova finestra)\n				Facebook\n			Us agrada:M'agrada S'està carregant...
URL:https://23robadors.com/calendari/around-the-space-band-w-miguel-villar-juan-pablo-balcazar-carlos-falanga-13/
CATEGORIES:LA JAM DE JAZZ
ATTACH;FMTTYPE=image/jpeg:https://23robadors.com/wp-content/uploads/2026/02/LA-JAM.jpg
END:VEVENT
BEGIN:VEVENT
DTSTART;TZID=Europe/Madrid:20260319T200000
DTEND;TZID=Europe/Madrid:20260319T200000
DTSTAMP:20260305T013956
CREATED:20260302T134618Z
LAST-MODIFIED:20260302T134618Z
UID:23926-1773950400-1773950400@23robadors.com
SUMMARY:LIDIA MORA . ALICIA REYES . RAFAEL FLORES EL MONÍN . VICTOR ROSELL
DESCRIPTION:Comparteix això:\n				Share on X (S'obre en una nova finestra)\n				X\n			\n				Share on Facebook (S'obre en una nova finestra)\n				Facebook\n			Us agrada:M'agrada S'està carregant...
URL:https://23robadors.com/calendari/lidia-mora-alicia-reyes-rafael-flores-el-monin-victor-rosell/
CATEGORIES:FLAMENCO
ATTACH;FMTTYPE=image/jpeg:https://23robadors.com/wp-content/uploads/2026/03/19-FLAM.jpg
END:VEVENT
BEGIN:VEVENT
DTSTART;TZID=Europe/Madrid:20260319T220000
DTEND;TZID=Europe/Madrid:20260319T220000
DTSTAMP:20260305T013956
CREATED:20260302T134808Z
LAST-MODIFIED:20260302T134808Z
UID:23929-1773957600-1773957600@23robadors.com
SUMMARY:BARTHA & ARNEDO QUARTET w/ MATYAS BARTHA . GUILLEM ARNEDO . POL OMEDES . DANNY ZIEMANN
DESCRIPTION:Comparteix això:\n				Share on X (S'obre en una nova finestra)\n				X\n			\n				Share on Facebook (S'obre en una nova finestra)\n				Facebook\n			Us agrada:M'agrada S'està carregant...
URL:https://23robadors.com/calendari/bartha-arnedo-quartet-w-matyas-bartha-guillem-arnedo-pol-omedes-danny-ziemann/
CATEGORIES:JAZZSESSION
ATTACH;FMTTYPE=image/jpeg:https://23robadors.com/wp-content/uploads/2026/03/19-JAZZ.jpg
END:VEVENT
BEGIN:VEVENT
DTSTART;TZID=Europe/Madrid:20260320T200000
DTEND;TZID=Europe/Madrid:20260320T200000
DTSTAMP:20260305T013956
CREATED:20260302T134937Z
LAST-MODIFIED:20260302T134937Z
UID:23932-1774036800-1774036800@23robadors.com
SUMMARY:DAVID SANCHEZ . MONTSERRAT MARTINEZ . LOLA REYES . JOSE MARIA PONCE
DESCRIPTION:Comparteix això:\n				Share on X (S'obre en una nova finestra)\n				X\n			\n				Share on Facebook (S'obre en una nova finestra)\n				Facebook\n			Us agrada:M'agrada S'està carregant...
URL:https://23robadors.com/calendari/david-sanchez-montserrat-martinez-lola-reyes-jose-maria-ponce/
CATEGORIES:FLAMENCO
ATTACH;FMTTYPE=image/jpeg:https://23robadors.com/wp-content/uploads/2026/03/20FLAM.jpg
END:VEVENT
BEGIN:VEVENT
DTSTART;TZID=Europe/Madrid:20260320T220000
DTEND;TZID=Europe/Madrid:20260320T220000
DTSTAMP:20260305T013956
CREATED:20260302T135115Z
LAST-MODIFIED:20260304T092012Z
UID:23936-1774044000-1774044000@23robadors.com
SUMMARY:KEN YCHICAWA QUARTET w/ MASA KAMAGUCHI . EDDIE MEJIA . EDU CABELLO
DESCRIPTION:Comparteix això:\n				Share on X (S'obre en una nova finestra)\n				X\n			\n				Share on Facebook (S'obre en una nova finestra)\n				Facebook\n			Us agrada:M'agrada S'està carregant...
URL:https://23robadors.com/calendari/ken-ychicawa-quartet-w-masa-kamaguchi-eddie-mejia-edu-cabello/
CATEGORIES:JAZZSESSION
ATTACH;FMTTYPE=image/jpeg:https://23robadors.com/wp-content/uploads/2026/03/20-JAZZ.jpg
END:VEVENT
END:VCALENDAR